BEGIN:VCALENDAR
VERSION:2.0
PRODID:-//Mehaigne Mouche - ECPv6.15.20//NONSGML v1.0//EN
CALSCALE:GREGORIAN
METHOD:PUBLISH
X-WR-CALNAME:Mehaigne Mouche
X-ORIGINAL-URL:https://metav.be
X-WR-CALDESC:Évènements pour Mehaigne Mouche
REFRESH-INTERVAL;VALUE=DURATION:PT1H
X-Robots-Tag:noindex
X-PUBLISHED-TTL:PT1H
BEGIN:VTIMEZONE
TZID:Europe/Paris
BEGIN:DAYLIGHT
TZOFFSETFROM:+0100
TZOFFSETTO:+0200
TZNAME:CEST
DTSTART:20250330T010000
END:DAYLIGHT
BEGIN:STANDARD
TZOFFSETFROM:+0200
TZOFFSETTO:+0100
TZNAME:CET
DTSTART:20251026T010000
END:STANDARD
BEGIN:DAYLIGHT
TZOFFSETFROM:+0100
TZOFFSETTO:+0200
TZNAME:CEST
DTSTART:20260329T010000
END:DAYLIGHT
BEGIN:STANDARD
TZOFFSETFROM:+0200
TZOFFSETTO:+0100
TZNAME:CET
DTSTART:20261025T010000
END:STANDARD
BEGIN:DAYLIGHT
TZOFFSETFROM:+0100
TZOFFSETTO:+0200
TZNAME:CEST
DTSTART:20270328T010000
END:DAYLIGHT
BEGIN:STANDARD
TZOFFSETFROM:+0200
TZOFFSETTO:+0100
TZNAME:CET
DTSTART:20271031T010000
END:STANDARD
END:VTIMEZONE
BEGIN:VEVENT
DTSTART;TZID=Europe/Paris:20261006T080000
DTEND;TZID=Europe/Paris:20261009T170000
DTSTAMP:20260421T123318
CREATED:20260125T184749Z
LAST-MODIFIED:20260125T184749Z
UID:1300848-1791273600-1791565200@metav.be
SUMMARY:Sortie club à Coyolles
DESCRIPTION:Groupe 1
URL:https://metav.be/event/sortie-club-a-coyolles/
END:VEVENT
BEGIN:VEVENT
DTSTART;TZID=Europe/Paris:20261016T080000
DTEND;TZID=Europe/Paris:20261018T170000
DTSTAMP:20260421T123318
CREATED:20260125T184825Z
LAST-MODIFIED:20260125T184825Z
UID:1300850-1792137600-1792342800@metav.be
SUMMARY:Sortie club à Coyolles
DESCRIPTION:Groupe 2
URL:https://metav.be/event/sortie-club-a-coyolles-2/
END:VEVENT
END:VCALENDAR